Package: EpipwR.data Version: 1.5.0 Command: /home/biocbuild/bbs-3.23-bioc/R/bin/R CMD check --install=check:EpipwR.data.install-out.txt --library=/home/biocbuild/bbs-3.23-bioc/R/site-library --timings EpipwR.data_1.5.0.tar.gz StartedAt: 2025-10-30 12:11:14 -0400 (Thu, 30 Oct 2025) EndedAt: 2025-10-30 12:11:27 -0400 (Thu, 30 Oct 2025) EllapsedTime: 12.6 seconds RetCode: 0 Status: OK CheckDir: EpipwR.data.Rcheck Warnings: 0