Package: EpipwR.data Version: 1.5.0 Command: /home/biocbuild/bbs-3.23-bioc/R/bin/R CMD build --keep-empty-dirs --no-resave-data EpipwR.data StartedAt: 2025-10-30 11:14:58 -0400 (Thu, 30 Oct 2025) EndedAt: 2025-10-30 11:15:01 -0400 (Thu, 30 Oct 2025) EllapsedTime: 3.3 seconds RetCode: 0 Status: OK PackageFile: EpipwR.data_1.5.0.tar.gz PackageFileSize: 8.337 KiB