Package: EpiMix.data Version: 1.11.0 Command: /home/biocbuild/bbs-3.22-bioc/R/bin/R CMD check --install=check:EpiMix.data.install-out.txt --library=/home/biocbuild/bbs-3.22-bioc/R/site-library --timings EpiMix.data_1.11.0.tar.gz StartedAt: 2025-10-16 12:18:55 -0400 (Thu, 16 Oct 2025) EndedAt: 2025-10-16 12:20:43 -0400 (Thu, 16 Oct 2025) EllapsedTime: 108.2 seconds RetCode: 0 Status: WARNINGS CheckDir: EpiMix.data.Rcheck Warnings: 1