Package: EatonEtAlChIPseq Version: 0.49.0 Command: /home/biocbuild/bbs-3.23-bioc/R/bin/R CMD INSTALL EatonEtAlChIPseq StartedAt: 2025-10-30 11:01:03 -0400 (Thu, 30 Oct 2025) EndedAt: 2025-10-30 11:01:25 -0400 (Thu, 30 Oct 2025) EllapsedTime: 22.0 seconds RetCode: 0 Status: OK