Package: ELMER.data Version: 2.35.0 Maintainer: Tiago Chedraoui Silva MaintainerEmail: tiagochst at gmail.com git_url: https://git.bioconductor.org/packages/ELMER.data git_branch: devel git_last_commit: 5e9c212 git_last_commit_date: 2025-10-29 09:56:39 -0400 (Wed, 29 Oct 2025)