Package: DuoClustering2018 Version: 1.29.0 Command: /home/biocbuild/bbs-3.23-bioc/R/bin/R CMD INSTALL DuoClustering2018 StartedAt: 2025-10-30 10:56:53 -0400 (Thu, 30 Oct 2025) EndedAt: 2025-10-30 10:57:06 -0400 (Thu, 30 Oct 2025) EllapsedTime: 12.9 seconds RetCode: 0 Status: OK