Package: DoReMiTra Version: 1.1.0 Command: /home/biocbuild/bbs-3.23-bioc/R/bin/R CMD INSTALL DoReMiTra StartedAt: 2025-10-30 11:01:54 -0400 (Thu, 30 Oct 2025) EndedAt: 2025-10-30 11:02:19 -0400 (Thu, 30 Oct 2025) EllapsedTime: 24.9 seconds RetCode: 0 Status: OK