Package: DoReMiTra Version: 1.1.0 Command: /home/biocbuild/bbs-3.23-bioc/R/bin/R CMD check --install=check:DoReMiTra.install-out.txt --library=/home/biocbuild/bbs-3.23-bioc/R/site-library --timings DoReMiTra_1.1.0.tar.gz StartedAt: 2025-10-30 12:07:23 -0400 (Thu, 30 Oct 2025) EndedAt: 2025-10-30 12:13:42 -0400 (Thu, 30 Oct 2025) EllapsedTime: 378.6 seconds RetCode: 0 Status: OK CheckDir: DoReMiTra.Rcheck Warnings: 0