Package: DoReMiTra Version: 1.1.0 Command: /home/biocbuild/bbs-3.23-bioc/R/bin/R CMD build --keep-empty-dirs --no-resave-data DoReMiTra StartedAt: 2025-10-30 11:13:30 -0400 (Thu, 30 Oct 2025) EndedAt: 2025-10-30 11:14:55 -0400 (Thu, 30 Oct 2025) EllapsedTime: 85.4 seconds RetCode: 0 Status: OK PackageFile: DoReMiTra_1.1.0.tar.gz PackageFileSize: 1.105 MiB