Package: DoReMiTra Version: 1.1.0 Maintainer: Ahmed Salah MaintainerEmail: ahhassan at uni-mainz.de git_url: https://git.bioconductor.org/packages/DoReMiTra git_branch: devel git_last_commit: 6542a3e git_last_commit_date: 2025-10-29 10:07:13 -0400 (Wed, 29 Oct 2025)