############################################################################## ############################################################################## ### ### Running command: ### ### /home/biocbuild/bbs-3.23-bioc/R/bin/R CMD INSTALL DeSousa2013 ### ############################################################################## ############################################################################## * installing to library ‘/home/biocbuild/bbs-3.23-bioc/R/site-library’ ERROR: dependencies ‘hgu133plus2.db’, ‘hgu133plus2frmavecs’ are not available for package ‘DeSousa2013’ Perhaps try a variation of: install.packages(c('hgu133plus2.db', 'hgu133plus2frmavecs')) * removing ‘/home/biocbuild/bbs-3.23-bioc/R/site-library/DeSousa2013’