Package: DeSousa2013 Version: 1.47.0 Command: /home/biocbuild/bbs-3.23-bioc/R/bin/R CMD check --install=check:DeSousa2013.install-out.txt --library=/home/biocbuild/bbs-3.23-bioc/R/site-library --timings DeSousa2013_1.47.0.tar.gz StartedAt: 2025-11-20 12:22:11 -0500 (Thu, 20 Nov 2025) EndedAt: 2025-11-20 12:27:00 -0500 (Thu, 20 Nov 2025) EllapsedTime: 288.7 seconds RetCode: 0 Status: OK CheckDir: DeSousa2013.Rcheck Warnings: 0