Package: DeSousa2013 Version: 1.47.0 Command: /home/biocbuild/bbs-3.23-bioc/R/bin/R CMD build --keep-empty-dirs --no-resave-data DeSousa2013 StartedAt: 2025-10-30 11:12:55 -0400 (Thu, 30 Oct 2025) EndedAt: 2025-10-30 11:12:56 -0400 (Thu, 30 Oct 2025) EllapsedTime: 1.0 seconds RetCode: 1 Status: ERROR PackageFile: None PackageFileSize: NA