############################################################################## ############################################################################## ### ### Running command: ### ### /home/biocbuild/bbs-3.23-bioc/R/bin/R CMD build --keep-empty-dirs --no-resave-data DeSousa2013 ### ############################################################################## ############################################################################## * checking for file ‘DeSousa2013/DESCRIPTION’ ... OK * preparing ‘DeSousa2013’: * checking DESCRIPTION meta-information ... OK * installing the package (it is needed to build vignettes) ----------------------------------- ERROR: dependencies ‘hgu133plus2.db’, ‘hgu133plus2frmavecs’ are not available for package ‘DeSousa2013’ Perhaps try a variation of: install.packages(c('hgu133plus2.db', 'hgu133plus2frmavecs')) * removing ‘/tmp/RtmpUX1mJX/Rinst287b35a8420c5/DeSousa2013’ ----------------------------------- ERROR: package installation failed