Package: DNAZooData Version: 1.11.0 Command: /home/biocbuild/bbs-3.23-bioc/R/bin/R CMD build --keep-empty-dirs --no-resave-data DNAZooData StartedAt: 2025-10-30 11:13:29 -0400 (Thu, 30 Oct 2025) EndedAt: 2025-10-30 11:14:08 -0400 (Thu, 30 Oct 2025) EllapsedTime: 38.5 seconds RetCode: 0 Status: OK PackageFile: DNAZooData_1.11.0.tar.gz PackageFileSize: 235.7 KiB