Package: DLBCL Version: 1.51.0 Command: /home/biocbuild/bbs-3.23-bioc/R/bin/R CMD INSTALL DLBCL StartedAt: 2025-10-30 10:56:39 -0400 (Thu, 30 Oct 2025) EndedAt: 2025-10-30 10:56:44 -0400 (Thu, 30 Oct 2025) EllapsedTime: 4.6 seconds RetCode: 0 Status: OK