Package: DLBCL Version: 1.51.0 Command: /home/biocbuild/bbs-3.23-bioc/R/bin/R CMD check --install=check:DLBCL.install-out.txt --library=/home/biocbuild/bbs-3.23-bioc/R/site-library --timings DLBCL_1.51.0.tar.gz StartedAt: 2025-10-30 12:06:43 -0400 (Thu, 30 Oct 2025) EndedAt: 2025-10-30 12:07:12 -0400 (Thu, 30 Oct 2025) EllapsedTime: 29.3 seconds RetCode: 0 Status: WARNINGS CheckDir: DLBCL.Rcheck Warnings: 1