Package: DExMAdata Version: 1.19.0 Command: /home/biocbuild/bbs-3.23-bioc/R/bin/R CMD INSTALL DExMAdata StartedAt: 2025-10-30 10:56:23 -0400 (Thu, 30 Oct 2025) EndedAt: 2025-10-30 10:57:22 -0400 (Thu, 30 Oct 2025) EllapsedTime: 58.7 seconds RetCode: 0 Status: OK