Package: DExMAdata Version: 1.19.0 Command: /home/biocbuild/bbs-3.23-bioc/R/bin/R CMD build --keep-empty-dirs --no-resave-data DExMAdata StartedAt: 2025-10-30 11:12:56 -0400 (Thu, 30 Oct 2025) EndedAt: 2025-10-30 11:14:02 -0400 (Thu, 30 Oct 2025) EllapsedTime: 65.5 seconds RetCode: 0 Status: OK PackageFile: DExMAdata_1.19.0.tar.gz PackageFileSize: 7.389 MiB