Package: DAPARdata Version: 1.41.0 Command: /home/biocbuild/bbs-3.23-bioc/R/bin/R CMD INSTALL DAPARdata StartedAt: 2025-10-30 11:00:25 -0400 (Thu, 30 Oct 2025) EndedAt: 2025-10-30 11:01:01 -0400 (Thu, 30 Oct 2025) EllapsedTime: 36.1 seconds RetCode: 0 Status: OK