Package: DAPARdata Version: 1.41.0 Command: /home/biocbuild/bbs-3.23-bioc/R/bin/R CMD build --keep-empty-dirs --no-resave-data DAPARdata StartedAt: 2025-10-30 11:12:16 -0400 (Thu, 30 Oct 2025) EndedAt: 2025-10-30 11:12:58 -0400 (Thu, 30 Oct 2025) EllapsedTime: 42.8 seconds RetCode: 0 Status: OK PackageFile: DAPARdata_1.41.0.tar.gz PackageFileSize: 29.04 MiB