Package: CytoMethIC Version: 1.7.0 Command: /home/biocbuild/bbs-3.23-bioc/R/bin/R CMD INSTALL CytoMethIC StartedAt: 2025-11-20 11:04:30 -0500 (Thu, 20 Nov 2025) EndedAt: 2025-11-20 11:04:57 -0500 (Thu, 20 Nov 2025) EllapsedTime: 27.8 seconds RetCode: 0 Status: OK