Package: CytoMethIC Version: 1.7.0 Command: /home/biocbuild/bbs-3.23-bioc/R/bin/R CMD check --install=check:CytoMethIC.install-out.txt --library=/home/biocbuild/bbs-3.23-bioc/R/site-library --timings CytoMethIC_1.7.0.tar.gz StartedAt: 2025-11-20 12:20:27 -0500 (Thu, 20 Nov 2025) EndedAt: 2025-11-20 12:27:12 -0500 (Thu, 20 Nov 2025) EllapsedTime: 404.6 seconds RetCode: 0 Status: OK CheckDir: CytoMethIC.Rcheck Warnings: 0