Package: CopyhelpeR Version: 1.43.0 Command: /home/biocbuild/bbs-3.23-bioc/R/bin/R CMD check --install=check:CopyhelpeR.install-out.txt --library=/home/biocbuild/bbs-3.23-bioc/R/site-library --timings CopyhelpeR_1.43.0.tar.gz StartedAt: 2025-11-04 12:08:31 -0500 (Tue, 04 Nov 2025) EndedAt: 2025-11-04 12:08:48 -0500 (Tue, 04 Nov 2025) EllapsedTime: 17.3 seconds RetCode: 0 Status: OK CheckDir: CopyhelpeR.Rcheck Warnings: 0