Package: CopyhelpeR Version: 1.43.0 Command: /home/biocbuild/bbs-3.23-bioc/R/bin/R CMD build --keep-empty-dirs --no-resave-data CopyhelpeR StartedAt: 2025-10-30 11:10:14 -0400 (Thu, 30 Oct 2025) EndedAt: 2025-10-30 11:10:21 -0400 (Thu, 30 Oct 2025) EllapsedTime: 7.3 seconds RetCode: 0 Status: OK PackageFile: CopyhelpeR_1.43.0.tar.gz PackageFileSize: 42.66 MiB