Package: CopyNeutralIMA Version: 1.29.0 Command: /home/biocbuild/bbs-3.23-bioc/R/bin/R CMD build --keep-empty-dirs --no-resave-data CopyNeutralIMA StartedAt: 2025-10-30 11:10:15 -0400 (Thu, 30 Oct 2025) EndedAt: 2025-10-30 11:10:50 -0400 (Thu, 30 Oct 2025) EllapsedTime: 34.7 seconds RetCode: 1 Status: ERROR PackageFile: None PackageFileSize: NA