Package: CoSIAdata Version: 1.11.0 Command: /home/biocbuild/bbs-3.23-bioc/R/bin/R CMD INSTALL CoSIAdata StartedAt: 2025-11-20 10:57:11 -0500 (Thu, 20 Nov 2025) EndedAt: 2025-11-20 10:57:28 -0500 (Thu, 20 Nov 2025) EllapsedTime: 17.2 seconds RetCode: 0 Status: OK