Package: CoSIAdata Version: 1.11.0 Command: /home/biocbuild/bbs-3.23-bioc/R/bin/R CMD check --install=check:CoSIAdata.install-out.txt --library=/home/biocbuild/bbs-3.23-bioc/R/site-library --timings CoSIAdata_1.11.0.tar.gz StartedAt: 2025-11-20 12:17:39 -0500 (Thu, 20 Nov 2025) EndedAt: 2025-11-20 12:21:31 -0500 (Thu, 20 Nov 2025) EllapsedTime: 232.1 seconds RetCode: 0 Status: OK CheckDir: CoSIAdata.Rcheck Warnings: 0