Package: CluMSIDdata Version: 1.27.0 Command: /home/biocbuild/bbs-3.23-bioc/R/bin/R CMD check --install=check:CluMSIDdata.install-out.txt --library=/home/biocbuild/bbs-3.23-bioc/R/site-library --timings CluMSIDdata_1.27.0.tar.gz StartedAt: 2025-11-13 12:08:49 -0500 (Thu, 13 Nov 2025) EndedAt: 2025-11-13 12:09:32 -0500 (Thu, 13 Nov 2025) EllapsedTime: 42.9 seconds RetCode: 0 Status: OK CheckDir: CluMSIDdata.Rcheck Warnings: 0