Package: ChimpHumanBrainData Version: 1.49.0 Command: /home/biocbuild/bbs-3.23-bioc/R/bin/R CMD check --install=check:ChimpHumanBrainData.install-out.txt --library=/home/biocbuild/bbs-3.23-bioc/R/site-library --timings ChimpHumanBrainData_1.49.0.tar.gz StartedAt: 2025-11-13 12:07:14 -0500 (Thu, 13 Nov 2025) EndedAt: 2025-11-13 12:08:53 -0500 (Thu, 13 Nov 2025) EllapsedTime: 98.8 seconds RetCode: 0 Status: OK CheckDir: ChimpHumanBrainData.Rcheck Warnings: 0