Package: ChIPXpressData Version: 1.49.0 Command: /home/biocbuild/bbs-3.23-bioc/R/bin/R CMD build --keep-empty-dirs --no-resave-data ChIPXpressData StartedAt: 2025-10-30 11:09:21 -0400 (Thu, 30 Oct 2025) EndedAt: 2025-10-30 11:14:34 -0400 (Thu, 30 Oct 2025) EllapsedTime: 313.5 seconds RetCode: 0 Status: OK PackageFile: ChIPXpressData_1.49.0.tar.gz PackageFileSize: 3.171 GiB