Package: ChIPDBData Version: 1.1.0 Command: /home/biocbuild/bbs-3.23-bioc/R/bin/R CMD build --keep-empty-dirs --no-resave-data ChIPDBData StartedAt: 2025-11-13 11:09:47 -0500 (Thu, 13 Nov 2025) EndedAt: 2025-11-13 11:10:38 -0500 (Thu, 13 Nov 2025) EllapsedTime: 50.9 seconds RetCode: 0 Status: OK PackageFile: ChIPDBData_1.1.0.tar.gz PackageFileSize: 224.9 KiB