Package: ChAMPdata Version: 2.43.0 Command: /home/biocbuild/bbs-3.23-bioc/R/bin/R CMD INSTALL ChAMPdata StartedAt: 2025-10-30 11:00:35 -0400 (Thu, 30 Oct 2025) EndedAt: 2025-10-30 11:00:42 -0400 (Thu, 30 Oct 2025) EllapsedTime: 6.8 seconds RetCode: 0 Status: OK