Package: ChAMPdata Version: 2.43.0 Command: /home/biocbuild/bbs-3.23-bioc/R/bin/R CMD build --keep-empty-dirs --no-resave-data ChAMPdata StartedAt: 2025-10-30 11:08:57 -0400 (Thu, 30 Oct 2025) EndedAt: 2025-10-30 11:09:50 -0400 (Thu, 30 Oct 2025) EllapsedTime: 52.3 seconds RetCode: 0 Status: OK PackageFile: ChAMPdata_2.43.0.tar.gz PackageFileSize: 667.1 MiB