Package: CellMapperData Version: 1.37.0 Command: /home/biocbuild/bbs-3.23-bioc/R/bin/R CMD INSTALL CellMapperData StartedAt: 2025-10-30 10:57:32 -0400 (Thu, 30 Oct 2025) EndedAt: 2025-10-30 10:57:43 -0400 (Thu, 30 Oct 2025) EllapsedTime: 10.2 seconds RetCode: 0 Status: OK