Package: CellMapperData Version: 1.37.0 Command: /home/biocbuild/bbs-3.23-bioc/R/bin/R CMD build --keep-empty-dirs --no-resave-data CellMapperData StartedAt: 2025-10-30 11:08:33 -0400 (Thu, 30 Oct 2025) EndedAt: 2025-10-30 11:08:56 -0400 (Thu, 30 Oct 2025) EllapsedTime: 22.4 seconds RetCode: 0 Status: OK PackageFile: CellMapperData_1.37.0.tar.gz PackageFileSize: 147.2 KiB