Package: CardinalWorkflows Version: 1.43.0 Command: /home/biocbuild/bbs-3.23-bioc/R/bin/R CMD check --install=check:CardinalWorkflows.install-out.txt --library=/home/biocbuild/bbs-3.23-bioc/R/site-library --timings CardinalWorkflows_1.43.0.tar.gz StartedAt: 2025-11-13 12:05:03 -0500 (Thu, 13 Nov 2025) EndedAt: 2025-11-13 13:02:56 -0500 (Thu, 13 Nov 2025) EllapsedTime: 3472.6 seconds RetCode: 0 Status: OK CheckDir: CardinalWorkflows.Rcheck Warnings: 0