Package: COPDSexualDimorphism.data Version: 1.45.0 Command: /home/biocbuild/bbs-3.22-bioc/R/bin/R CMD check --install=check:COPDSexualDimorphism.data.install-out.txt --library=/home/biocbuild/bbs-3.22-bioc/R/site-library --timings COPDSexualDimorphism.data_1.45.0.tar.gz StartedAt: 2025-10-09 12:09:05 -0400 (Thu, 09 Oct 2025) EndedAt: 2025-10-09 12:10:13 -0400 (Thu, 09 Oct 2025) EllapsedTime: 67.7 seconds RetCode: 0 Status: WARNINGS CheckDir: COPDSexualDimorphism.data.Rcheck Warnings: 1