Package: CONFESSdata Version: 1.39.0 Command: /home/biocbuild/bbs-3.23-bioc/R/bin/R CMD check --install=check:CONFESSdata.install-out.txt --library=/home/biocbuild/bbs-3.23-bioc/R/site-library --timings CONFESSdata_1.39.0.tar.gz StartedAt: 2025-11-06 12:07:26 -0500 (Thu, 06 Nov 2025) EndedAt: 2025-11-06 12:07:38 -0500 (Thu, 06 Nov 2025) EllapsedTime: 11.9 seconds RetCode: 0 Status: OK CheckDir: CONFESSdata.Rcheck Warnings: 0