Package: CONFESSdata Version: 1.39.0 Command: /home/biocbuild/bbs-3.23-bioc/R/bin/R CMD build --keep-empty-dirs --no-resave-data CONFESSdata StartedAt: 2025-11-06 11:11:15 -0500 (Thu, 06 Nov 2025) EndedAt: 2025-11-06 11:11:50 -0500 (Thu, 06 Nov 2025) EllapsedTime: 34.4 seconds RetCode: 0 Status: OK PackageFile: CONFESSdata_1.39.0.tar.gz PackageFileSize: 9.832 MiB