Package: COHCAPanno Version: 1.47.0 Command: /home/biocbuild/bbs-3.23-bioc/R/bin/R CMD INSTALL COHCAPanno StartedAt: 2025-10-30 10:55:53 -0400 (Thu, 30 Oct 2025) EndedAt: 2025-10-30 10:55:55 -0400 (Thu, 30 Oct 2025) EllapsedTime: 2.1 seconds RetCode: 0 Status: OK