Package: BloodCancerMultiOmics2017 Version: 1.31.0 Command: /home/biocbuild/bbs-3.23-bioc/R/bin/R CMD build --keep-empty-dirs --no-resave-data BloodCancerMultiOmics2017 StartedAt: 2025-10-30 11:07:52 -0400 (Thu, 30 Oct 2025) EndedAt: 2025-10-30 11:38:41 -0400 (Thu, 30 Oct 2025) EllapsedTime: 1849.4 seconds RetCode: 0 Status: OK PackageFile: BloodCancerMultiOmics2017_1.31.0.tar.gz PackageFileSize: 53.69 MiB