Package: BioPlex Version: 1.17.0 Command: /home/biocbuild/bbs-3.23-bioc/R/bin/R CMD build --keep-empty-dirs --no-resave-data BioPlex StartedAt: 2025-11-27 11:08:04 -0500 (Thu, 27 Nov 2025) EndedAt: 2025-11-27 11:09:36 -0500 (Thu, 27 Nov 2025) EllapsedTime: 92.3 seconds RetCode: 1 Status: ERROR PackageFile: None PackageFileSize: NA