Package: BioImageDbs Version: 1.19.0 Command: /home/biocbuild/bbs-3.23-bioc/R/bin/R CMD check --install=check:BioImageDbs.install-out.txt --library=/home/biocbuild/bbs-3.23-bioc/R/site-library --timings BioImageDbs_1.19.0.tar.gz StartedAt: 2025-11-06 12:01:47 -0500 (Thu, 06 Nov 2025) EndedAt: 2025-11-06 12:05:19 -0500 (Thu, 06 Nov 2025) EllapsedTime: 212.4 seconds RetCode: 0 Status: OK CheckDir: BioImageDbs.Rcheck Warnings: 0