Package: BeadSorted.Saliva.EPIC Version: 1.19.0 Command: /home/biocbuild/bbs-3.23-bioc/R/bin/R CMD check --install=check:BeadSorted.Saliva.EPIC.install-out.txt --library=/home/biocbuild/bbs-3.23-bioc/R/site-library --timings BeadSorted.Saliva.EPIC_1.19.0.tar.gz StartedAt: 2025-11-04 12:02:42 -0500 (Tue, 04 Nov 2025) EndedAt: 2025-11-04 12:07:59 -0500 (Tue, 04 Nov 2025) EllapsedTime: 316.5 seconds RetCode: 0 Status: OK CheckDir: BeadSorted.Saliva.EPIC.Rcheck Warnings: 0