Package: BeadSorted.Saliva.EPIC Version: 1.19.0 Command: /home/biocbuild/bbs-3.23-bioc/R/bin/R CMD build --keep-empty-dirs --no-resave-data BeadSorted.Saliva.EPIC StartedAt: 2025-10-30 11:07:30 -0400 (Thu, 30 Oct 2025) EndedAt: 2025-10-30 11:08:14 -0400 (Thu, 30 Oct 2025) EllapsedTime: 43.9 seconds RetCode: 0 Status: OK PackageFile: BeadSorted.Saliva.EPIC_1.19.0.tar.gz PackageFileSize: 13.46 KiB