Package: BeadArrayUseCases Version: 1.49.0 Command: /home/biocbuild/bbs-3.23-bioc/R/bin/R CMD INSTALL BeadArrayUseCases StartedAt: 2025-11-13 10:59:31 -0500 (Thu, 13 Nov 2025) EndedAt: 2025-11-13 10:59:52 -0500 (Thu, 13 Nov 2025) EllapsedTime: 21.2 seconds RetCode: 0 Status: OK