Package: BeadArrayUseCases Version: 1.49.0 Command: /home/biocbuild/bbs-3.23-bioc/R/bin/R CMD check --install=check:BeadArrayUseCases.install-out.txt --library=/home/biocbuild/bbs-3.23-bioc/R/site-library --timings BeadArrayUseCases_1.49.0.tar.gz StartedAt: 2025-11-13 12:02:47 -0500 (Thu, 13 Nov 2025) EndedAt: 2025-11-13 12:11:10 -0500 (Thu, 13 Nov 2025) EllapsedTime: 502.5 seconds RetCode: 0 Status: OK CheckDir: BeadArrayUseCases.Rcheck Warnings: 0