Package: AssessORFData Version: 1.29.0 Command: /home/biocbuild/bbs-3.23-bioc/R/bin/R CMD check --install=check:AssessORFData.install-out.txt --library=/home/biocbuild/bbs-3.23-bioc/R/site-library --timings AssessORFData_1.29.0.tar.gz StartedAt: 2025-10-30 11:57:22 -0400 (Thu, 30 Oct 2025) EndedAt: 2025-10-30 12:01:39 -0400 (Thu, 30 Oct 2025) EllapsedTime: 257.5 seconds RetCode: 0 Status: OK CheckDir: AssessORFData.Rcheck Warnings: 0