Package: AssessORFData Version: 1.29.0 Command: /home/biocbuild/bbs-3.23-bioc/R/bin/R CMD build --keep-empty-dirs --no-resave-data AssessORFData StartedAt: 2025-10-30 11:07:18 -0400 (Thu, 30 Oct 2025) EndedAt: 2025-10-30 11:08:51 -0400 (Thu, 30 Oct 2025) EllapsedTime: 93.5 seconds RetCode: 0 Status: OK PackageFile: AssessORFData_1.29.0.tar.gz PackageFileSize: 144.6 MiB